BEGIN:VCALENDAR
PRODID:-//Events Calendar//iCal4j 1.0//EN
CALSCALE:GREGORIAN
BEGIN:VEVENT
DTSTAMP:20260425T131341Z
DTSTART:20260320T000000
DTEND:20260501T235900
SUMMARY:Le Printemps des Artistes 2026
UID:ea82da9e-e4c6-45f5-8a74-8e165b1c7f6a
RRULE:FREQ=WEEKLY;INTERVAL=1;BYDAY=SU,MO,TU,WE,TH
END:VEVENT
END:VCALENDAR
