BEGIN:VCALENDAR
PRODID:-//Events Calendar//iCal4j 1.0//EN
CALSCALE:GREGORIAN
BEGIN:VEVENT
DTSTAMP:20260425T130756Z
DTSTART:20260416T000000
DTEND:20260416T235900
SUMMARY:Les rencontres de l'emploi
UID:34d3e2bd-b4f0-436c-a603-12fdedbc30ba
RRULE:FREQ=DAILY;INTERVAL=1
END:VEVENT
END:VCALENDAR
